Package: mariner Version: 1.0.0 Command: /Library/Frameworks/R.framework/Resources/bin/R CMD check --install=check:mariner.install-out.txt --library=/Library/Frameworks/R.framework/Resources/library --no-vignettes --timings mariner_1.0.0.tar.gz StartedAt: 2023-10-16 03:25:22 -0400 (Mon, 16 Oct 2023) EndedAt: 2023-10-16 03:51:37 -0400 (Mon, 16 Oct 2023) EllapsedTime: 1575.0 seconds RetCode: 0 Status: OK CheckDir: mariner.Rcheck Warnings: 0