Package: mariner Version: 1.0.0 Command: rm -rf mariner.buildbin-libdir && mkdir mariner.buildbin-libdir && /Users/biocbuild/BBS/utils/build-universal.sh mariner_1.0.0.tar.gz /Library/Frameworks/R.framework/Resources/bin/R mariner.buildbin-libdir StartedAt: 2023-10-16 09:39:34 -0400 (Mon, 16 Oct 2023) EndedAt: 2023-10-16 09:41:49 -0400 (Mon, 16 Oct 2023) EllapsedTime: 134.8 seconds RetCode: 0 Status: OK PackageFile: mariner_1.0.0.tgz PackageFileSize: 1.217 MiB