Package: maigesPack Version: 1.64.0 Command: /Library/Frameworks/R.framework/Resources/bin/R CMD build --keep-empty-dirs --no-resave-data maigesPack StartedAt: 2023-10-15 19:13:41 -0400 (Sun, 15 Oct 2023) EndedAt: 2023-10-15 19:14:48 -0400 (Sun, 15 Oct 2023) EllapsedTime: 67.0 seconds RetCode: 0 Status: OK PackageFile: maigesPack_1.64.0.tar.gz PackageFileSize: 1.194 MiB