Package: maigesPack Version: 1.64.0 Command: rm -rf maigesPack.buildbin-libdir && mkdir maigesPack.buildbin-libdir && /Users/biocbuild/BBS/utils/build-universal.sh maigesPack_1.64.0.tar.gz /Library/Frameworks/R.framework/Resources/bin/R maigesPack.buildbin-libdir StartedAt: 2023-10-16 09:39:23 -0400 (Mon, 16 Oct 2023) EndedAt: 2023-10-16 09:40:12 -0400 (Mon, 16 Oct 2023) EllapsedTime: 48.9 seconds RetCode: 0 Status: OK PackageFile: maigesPack_1.64.0.tgz PackageFileSize: 1.648 MiB