Package: magrene Version: 1.2.0 Command: /home/biocbuild/bbs-3.17-bioc/R/bin/R CMD build --keep-empty-dirs --no-resave-data magrene StartedAt: 2023-10-15 17:17:34 -0400 (Sun, 15 Oct 2023) EndedAt: 2023-10-15 17:18:12 -0400 (Sun, 15 Oct 2023) EllapsedTime: 38.4 seconds RetCode: 0 Status: OK PackageFile: magrene_1.2.0.tar.gz PackageFileSize: 2.256 MiB