Package: magrene Version: 1.2.0 Command: /Library/Frameworks/R.framework/Resources/bin/R CMD build --keep-empty-dirs --no-resave-data magrene StartedAt: 2023-10-15 19:13:25 -0400 (Sun, 15 Oct 2023) EndedAt: 2023-10-15 19:14:59 -0400 (Sun, 15 Oct 2023) EllapsedTime: 94.6 seconds RetCode: 0 Status: OK PackageFile: magrene_1.2.0.tar.gz PackageFileSize: 2.256 MiB