Package: magrene Version: 1.2.0 Command: rm -rf magrene.buildbin-libdir && mkdir magrene.buildbin-libdir && /Users/biocbuild/BBS/utils/build-universal.sh magrene_1.2.0.tar.gz /Library/Frameworks/R.framework/Resources/bin/R magrene.buildbin-libdir StartedAt: 2023-10-16 09:39:20 -0400 (Mon, 16 Oct 2023) EndedAt: 2023-10-16 09:39:29 -0400 (Mon, 16 Oct 2023) EllapsedTime: 8.6 seconds RetCode: 0 Status: OK PackageFile: magrene_1.2.0.tgz PackageFileSize: 2.188 MiB