Package: magpie Version: 1.0.0 Command: /Library/Frameworks/R.framework/Resources/bin/R CMD INSTALL magpie StartedAt: 2023-10-15 16:20:16 -0400 (Sun, 15 Oct 2023) EndedAt: 2023-10-15 16:22:19 -0400 (Sun, 15 Oct 2023) EllapsedTime: 123.5 seconds RetCode: 0 Status: OK