Package: magpie Version: 1.0.0 Command: /Library/Frameworks/R.framework/Resources/bin/R CMD check --install=check:magpie.install-out.txt --library=/Library/Frameworks/R.framework/Resources/library --no-vignettes --timings magpie_1.0.0.tar.gz StartedAt: 2023-10-16 03:21:46 -0400 (Mon, 16 Oct 2023) EndedAt: 2023-10-16 03:34:25 -0400 (Mon, 16 Oct 2023) EllapsedTime: 759.6 seconds RetCode: 0 Status: OK CheckDir: magpie.Rcheck Warnings: 0