Package: magpie Version: 1.0.0 Command: /Library/Frameworks/R.framework/Resources/bin/R CMD build --keep-empty-dirs --no-resave-data magpie StartedAt: 2023-10-15 19:13:16 -0400 (Sun, 15 Oct 2023) EndedAt: 2023-10-15 19:15:29 -0400 (Sun, 15 Oct 2023) EllapsedTime: 132.5 seconds RetCode: 0 Status: OK PackageFile: magpie_1.0.0.tar.gz PackageFileSize: 2.166 MiB