Package: maftools Version: 2.16.0 Command: F:\biocbuild\bbs-3.17-bioc\R\bin\R.exe CMD check --no-multiarch --install=check:maftools.install-out.txt --library=F:\biocbuild\bbs-3.17-bioc\R\library --no-vignettes --timings maftools_2.16.0.tar.gz StartedAt: 2023-10-16 03:37:11 -0400 (Mon, 16 Oct 2023) EndedAt: 2023-10-16 03:41:22 -0400 (Mon, 16 Oct 2023) EllapsedTime: 250.8 seconds RetCode: 0 Status: OK CheckDir: maftools.Rcheck Warnings: 0