Package: maftools Version: 2.16.0 Command: chmod a+r maftools -R && F:\biocbuild\bbs-3.17-bioc\R\bin\R.exe CMD build --keep-empty-dirs --no-resave-data maftools StartedAt: 2023-10-15 20:08:48 -0400 (Sun, 15 Oct 2023) EndedAt: 2023-10-15 20:11:48 -0400 (Sun, 15 Oct 2023) EllapsedTime: 180.2 seconds RetCode: 0 Status: OK PackageFile: maftools_2.16.0.tar.gz PackageFileSize: 8.757 MiB