Package: maftools Version: 2.16.0 Command: rm -rf maftools.buildbin-libdir && mkdir maftools.buildbin-libdir && F:\biocbuild\bbs-3.17-bioc\R\bin\R.exe CMD INSTALL --build --library=maftools.buildbin-libdir maftools_2.16.0.tar.gz StartedAt: 2023-10-16 09:01:19 -0400 (Mon, 16 Oct 2023) EndedAt: 2023-10-16 09:01:56 -0400 (Mon, 16 Oct 2023) EllapsedTime: 37.4 seconds RetCode: 0 Status: OK PackageFile: maftools_2.16.0.zip PackageFileSize: 12.97 MiB