Package: maftools Version: 2.16.0 Command: /home/biocbuild/bbs-3.17-bioc/R/bin/R CMD check --install=check:maftools.install-out.txt --library=/home/biocbuild/bbs-3.17-bioc/R/site-library --timings maftools_2.16.0.tar.gz StartedAt: 2023-10-15 22:27:06 -0400 (Sun, 15 Oct 2023) EndedAt: 2023-10-15 22:31:32 -0400 (Sun, 15 Oct 2023) EllapsedTime: 266.3 seconds RetCode: 0 Status: WARNINGS CheckDir: maftools.Rcheck Warnings: 2