Package: maftools Version: 2.16.0 Command: /home/biocbuild/bbs-3.17-bioc/R/bin/R CMD build --keep-empty-dirs --no-resave-data maftools StartedAt: 2023-10-15 17:17:17 -0400 (Sun, 15 Oct 2023) EndedAt: 2023-10-15 17:20:00 -0400 (Sun, 15 Oct 2023) EllapsedTime: 163.0 seconds RetCode: 0 Status: OK PackageFile: maftools_2.16.0.tar.gz PackageFileSize: 10.54 MiB