Package: maftools Version: 2.16.0 Command: /Library/Frameworks/R.framework/Resources/bin/R CMD INSTALL maftools StartedAt: 2023-10-15 16:03:44 -0400 (Sun, 15 Oct 2023) EndedAt: 2023-10-15 16:04:44 -0400 (Sun, 15 Oct 2023) EllapsedTime: 59.3 seconds RetCode: 0 Status: OK