Package: maftools Version: 2.16.0 Command: rm -rf maftools.buildbin-libdir && mkdir maftools.buildbin-libdir && /Users/biocbuild/BBS/utils/build-universal.sh maftools_2.16.0.tar.gz /Library/Frameworks/R.framework/Resources/bin/R maftools.buildbin-libdir StartedAt: 2023-10-16 09:39:12 -0400 (Mon, 16 Oct 2023) EndedAt: 2023-10-16 09:40:22 -0400 (Mon, 16 Oct 2023) EllapsedTime: 70.3 seconds RetCode: 0 Status: OK PackageFile: maftools_2.16.0.tgz PackageFileSize: 11.44 MiB