Package: made4 Version: 1.74.0 Command: /Library/Frameworks/R.framework/Resources/bin/R CMD check --install=check:made4.install-out.txt --library=/Library/Frameworks/R.framework/Resources/library --no-vignettes --timings made4_1.74.0.tar.gz StartedAt: 2023-10-16 03:20:00 -0400 (Mon, 16 Oct 2023) EndedAt: 2023-10-16 03:26:20 -0400 (Mon, 16 Oct 2023) EllapsedTime: 379.6 seconds RetCode: 0 Status: OK CheckDir: made4.Rcheck Warnings: 0