Package: maanova Version: 1.69.0 Command: /Library/Frameworks/R.framework/Resources/bin/R CMD check --install=check:maanova.install-out.txt --library=/Library/Frameworks/R.framework/Resources/library --no-vignettes --timings maanova_1.69.0.tar.gz StartedAt: 2022-11-09 04:09:39 -0500 (Wed, 09 Nov 2022) EndedAt: 2022-11-09 04:11:15 -0500 (Wed, 09 Nov 2022) EllapsedTime: 95.7 seconds RetCode: 0 Status: WARNINGS CheckDir: maanova.Rcheck Warnings: 1