Package: maanova Version: 1.70.0 Command: /Library/Frameworks/R.framework/Resources/bin/R CMD build --keep-empty-dirs --no-resave-data maanova StartedAt: 2023-10-15 19:12:02 -0400 (Sun, 15 Oct 2023) EndedAt: 2023-10-15 19:12:05 -0400 (Sun, 15 Oct 2023) EllapsedTime: 3.1 seconds RetCode: 1 Status: ERROR PackageFile: None PackageFileSize: NA