Package: maSigPro Version: 1.72.0 Command: F:\biocbuild\bbs-3.17-bioc\R\bin\R.exe CMD INSTALL maSigPro StartedAt: 2023-10-15 15:49:12 -0400 (Sun, 15 Oct 2023) EndedAt: 2023-10-15 15:49:27 -0400 (Sun, 15 Oct 2023) EllapsedTime: 15.1 seconds RetCode: 0 Status: OK