Package: maSigPro Version: 1.72.0 Command: rm -rf maSigPro.buildbin-libdir && mkdir maSigPro.buildbin-libdir && F:\biocbuild\bbs-3.17-bioc\R\bin\R.exe CMD INSTALL --build --library=maSigPro.buildbin-libdir maSigPro_1.72.0.tar.gz StartedAt: 2023-10-16 09:01:54 -0400 (Mon, 16 Oct 2023) EndedAt: 2023-10-16 09:02:02 -0400 (Mon, 16 Oct 2023) EllapsedTime: 8.5 seconds RetCode: 0 Status: OK PackageFile: maSigPro_1.72.0.zip PackageFileSize: 1.605 MiB