Package: maSigPro Version: 1.72.0 Command: /Library/Frameworks/R.framework/Resources/bin/R CMD check --install=check:maSigPro.install-out.txt --library=/Library/Frameworks/R.framework/Resources/library --no-vignettes --timings maSigPro_1.72.0.tar.gz StartedAt: 2023-10-16 03:26:03 -0400 (Mon, 16 Oct 2023) EndedAt: 2023-10-16 03:33:18 -0400 (Mon, 16 Oct 2023) EllapsedTime: 435.1 seconds RetCode: 0 Status: OK CheckDir: maSigPro.Rcheck Warnings: 0