Package: maPredictDSC Version: 1.38.0 Command: F:\biocbuild\bbs-3.17-bioc\R\bin\R.exe CMD INSTALL maPredictDSC StartedAt: 2023-10-15 16:48:08 -0400 (Sun, 15 Oct 2023) EndedAt: 2023-10-15 16:48:35 -0400 (Sun, 15 Oct 2023) EllapsedTime: 27.0 seconds RetCode: 0 Status: OK