Package: maPredictDSC Version: 1.38.0 Command: chmod a+r maPredictDSC -R && F:\biocbuild\bbs-3.17-bioc\R\bin\R.exe CMD build --keep-empty-dirs --no-resave-data maPredictDSC StartedAt: 2023-10-15 20:10:07 -0400 (Sun, 15 Oct 2023) EndedAt: 2023-10-15 20:13:15 -0400 (Sun, 15 Oct 2023) EllapsedTime: 188.1 seconds RetCode: 0 Status: OK PackageFile: maPredictDSC_1.38.0.tar.gz PackageFileSize: 100.8 KiB