Package: maPredictDSC Version: 1.38.0 Command: /Library/Frameworks/R.framework/Resources/bin/R CMD check --install=check:maPredictDSC.install-out.txt --library=/Library/Frameworks/R.framework/Resources/library --no-vignettes --timings maPredictDSC_1.38.0.tar.gz StartedAt: 2023-10-16 03:25:01 -0400 (Mon, 16 Oct 2023) EndedAt: 2023-10-16 03:35:45 -0400 (Mon, 16 Oct 2023) EllapsedTime: 643.7 seconds RetCode: 0 Status: OK CheckDir: maPredictDSC.Rcheck Warnings: 0