Package: maPredictDSC Version: 1.38.0 Command: /Library/Frameworks/R.framework/Resources/bin/R CMD build --keep-empty-dirs --no-resave-data maPredictDSC StartedAt: 2023-10-15 19:14:13 -0400 (Sun, 15 Oct 2023) EndedAt: 2023-10-15 19:17:32 -0400 (Sun, 15 Oct 2023) EllapsedTime: 199.2 seconds RetCode: 0 Status: OK PackageFile: maPredictDSC_1.38.0.tar.gz PackageFileSize: 197.7 KiB