Package: maPredictDSC Version: 1.38.0 Command: rm -rf maPredictDSC.buildbin-libdir && mkdir maPredictDSC.buildbin-libdir && /Users/biocbuild/BBS/utils/build-universal.sh maPredictDSC_1.38.0.tar.gz /Library/Frameworks/R.framework/Resources/bin/R maPredictDSC.buildbin-libdir StartedAt: 2023-10-16 09:39:29 -0400 (Mon, 16 Oct 2023) EndedAt: 2023-10-16 09:40:53 -0400 (Mon, 16 Oct 2023) EllapsedTime: 83.9 seconds RetCode: 0 Status: OK PackageFile: maPredictDSC_1.38.0.tgz PackageFileSize: 228.8 KiB