Package: maCorrPlot Version: 1.70.0 Command: /home/biocbuild/bbs-3.17-bioc/R/bin/R CMD build --keep-empty-dirs --no-resave-data maCorrPlot StartedAt: 2023-10-15 17:17:11 -0400 (Sun, 15 Oct 2023) EndedAt: 2023-10-15 17:17:16 -0400 (Sun, 15 Oct 2023) EllapsedTime: 4.9 seconds RetCode: 0 Status: OK PackageFile: maCorrPlot_1.70.0.tar.gz PackageFileSize: 1.265 MiB