Package: mBPCR Version: 1.54.0 Command: chmod a+r mBPCR -R && F:\biocbuild\bbs-3.17-bioc\R\bin\R.exe CMD build --keep-empty-dirs --no-resave-data mBPCR StartedAt: 2023-10-15 20:13:13 -0400 (Sun, 15 Oct 2023) EndedAt: 2023-10-15 20:14:19 -0400 (Sun, 15 Oct 2023) EllapsedTime: 65.2 seconds RetCode: 0 Status: OK PackageFile: mBPCR_1.54.0.tar.gz PackageFileSize: 693.4 KiB