Package: mBPCR Version: 1.54.0 Command: /Library/Frameworks/R.framework/Resources/bin/R CMD check --install=check:mBPCR.install-out.txt --library=/Library/Frameworks/R.framework/Resources/library --no-vignettes --timings mBPCR_1.54.0.tar.gz StartedAt: 2023-10-16 03:29:58 -0400 (Mon, 16 Oct 2023) EndedAt: 2023-10-16 03:38:55 -0400 (Mon, 16 Oct 2023) EllapsedTime: 537.2 seconds RetCode: 0 Status: OK CheckDir: mBPCR.Rcheck Warnings: 0