Package: mAPKL Version: 1.30.0 Command: /home/biocbuild/bbs-3.17-bioc/R/bin/R CMD INSTALL mAPKL StartedAt: 2023-10-15 15:37:57 -0400 (Sun, 15 Oct 2023) EndedAt: 2023-10-15 15:38:16 -0400 (Sun, 15 Oct 2023) EllapsedTime: 18.8 seconds RetCode: 0 Status: OK