Package: mAPKL Version: 1.30.0 Command: /Library/Frameworks/R.framework/Resources/bin/R CMD build --keep-empty-dirs --no-resave-data mAPKL StartedAt: 2023-10-15 19:13:59 -0400 (Sun, 15 Oct 2023) EndedAt: 2023-10-15 19:15:03 -0400 (Sun, 15 Oct 2023) EllapsedTime: 63.8 seconds RetCode: 1 Status: ERROR PackageFile: None PackageFileSize: NA