Package: m6Aboost Version: 1.6.0 Command: F:\biocbuild\bbs-3.17-bioc\R\bin\R.exe CMD INSTALL m6Aboost StartedAt: 2023-10-15 17:02:49 -0400 (Sun, 15 Oct 2023) EndedAt: 2023-10-15 17:03:38 -0400 (Sun, 15 Oct 2023) EllapsedTime: 48.7 seconds RetCode: 0 Status: OK