Package: m6Aboost Version: 1.6.0 Command: chmod a+r m6Aboost -R && F:\biocbuild\bbs-3.17-bioc\R\bin\R.exe CMD build --keep-empty-dirs --no-resave-data m6Aboost StartedAt: 2023-10-15 20:07:54 -0400 (Sun, 15 Oct 2023) EndedAt: 2023-10-15 20:09:18 -0400 (Sun, 15 Oct 2023) EllapsedTime: 84.5 seconds RetCode: 0 Status: OK PackageFile: m6Aboost_1.6.0.tar.gz PackageFileSize: 759.7 KiB