Package: m6Aboost Version: 1.6.0 Command: rm -rf m6Aboost.buildbin-libdir && mkdir m6Aboost.buildbin-libdir && F:\biocbuild\bbs-3.17-bioc\R\bin\R.exe CMD INSTALL --build --library=m6Aboost.buildbin-libdir m6Aboost_1.6.0.tar.gz StartedAt: 2023-10-16 09:01:06 -0400 (Mon, 16 Oct 2023) EndedAt: 2023-10-16 09:01:59 -0400 (Mon, 16 Oct 2023) EllapsedTime: 53.9 seconds RetCode: 0 Status: OK PackageFile: m6Aboost_1.6.0.zip PackageFileSize: 578.1 KiB