Package: m6Aboost Version: 1.6.0 Command: /home/biocbuild/bbs-3.17-bioc/R/bin/R CMD INSTALL m6Aboost StartedAt: 2023-10-15 15:48:46 -0400 (Sun, 15 Oct 2023) EndedAt: 2023-10-15 15:49:31 -0400 (Sun, 15 Oct 2023) EllapsedTime: 44.9 seconds RetCode: 0 Status: OK