Package: m6Aboost Version: 1.6.0 Command: /home/biocbuild/bbs-3.17-bioc/R/bin/R CMD check --install=check:m6Aboost.install-out.txt --library=/home/biocbuild/bbs-3.17-bioc/R/site-library --timings m6Aboost_1.6.0.tar.gz StartedAt: 2023-10-15 22:25:22 -0400 (Sun, 15 Oct 2023) EndedAt: 2023-10-15 22:31:04 -0400 (Sun, 15 Oct 2023) EllapsedTime: 342.3 seconds RetCode: 0 Status: OK CheckDir: m6Aboost.Rcheck Warnings: 0