Package: m6Aboost Version: 1.6.0 Command: /home/biocbuild/bbs-3.17-bioc/R/bin/R CMD build --keep-empty-dirs --no-resave-data m6Aboost StartedAt: 2023-10-15 17:16:52 -0400 (Sun, 15 Oct 2023) EndedAt: 2023-10-15 17:18:04 -0400 (Sun, 15 Oct 2023) EllapsedTime: 71.8 seconds RetCode: 0 Status: OK PackageFile: m6Aboost_1.6.0.tar.gz PackageFileSize: 759.6 KiB