Package: m6Aboost Version: 1.6.0 Command: /Library/Frameworks/R.framework/Resources/bin/R CMD INSTALL m6Aboost StartedAt: 2023-10-15 16:30:21 -0400 (Sun, 15 Oct 2023) EndedAt: 2023-10-15 16:32:32 -0400 (Sun, 15 Oct 2023) EllapsedTime: 131.0 seconds RetCode: 0 Status: OK