Package: m6Aboost Version: 1.6.0 Command: rm -rf m6Aboost.buildbin-libdir && mkdir m6Aboost.buildbin-libdir && /Users/biocbuild/BBS/utils/build-universal.sh m6Aboost_1.6.0.tar.gz /Library/Frameworks/R.framework/Resources/bin/R m6Aboost.buildbin-libdir StartedAt: 2023-10-16 09:38:56 -0400 (Mon, 16 Oct 2023) EndedAt: 2023-10-16 09:41:17 -0400 (Mon, 16 Oct 2023) EllapsedTime: 141.1 seconds RetCode: 0 Status: OK PackageFile: m6Aboost_1.6.0.tgz PackageFileSize: 573.8 KiB