Package: lumi Version: 2.52.0 Command: /home/biocbuild/bbs-3.17-bioc/R/bin/R CMD check --install=check:lumi.install-out.txt --library=/home/biocbuild/bbs-3.17-bioc/R/site-library --timings lumi_2.52.0.tar.gz StartedAt: 2023-10-15 22:24:57 -0400 (Sun, 15 Oct 2023) EndedAt: 2023-10-15 22:31:57 -0400 (Sun, 15 Oct 2023) EllapsedTime: 419.9 seconds RetCode: 0 Status: WARNINGS CheckDir: lumi.Rcheck Warnings: 3