Package: lumi Version: 2.52.0 Command: /Library/Frameworks/R.framework/Resources/bin/R CMD check --install=check:lumi.install-out.txt --library=/Library/Frameworks/R.framework/Resources/library --no-vignettes --timings lumi_2.52.0.tar.gz StartedAt: 2023-10-16 03:18:29 -0400 (Mon, 16 Oct 2023) EndedAt: 2023-10-16 03:36:06 -0400 (Mon, 16 Oct 2023) EllapsedTime: 1056.4 seconds RetCode: 0 Status: WARNINGS CheckDir: lumi.Rcheck Warnings: 3