Package: lpsymphony Version: 1.28.1 Command: F:\biocbuild\bbs-3.17-bioc\R\bin\R.exe CMD check --no-multiarch --install=check:lpsymphony.install-out.txt --library=F:\biocbuild\bbs-3.17-bioc\R\library --no-vignettes --timings lpsymphony_1.28.1.tar.gz StartedAt: 2023-10-16 03:34:08 -0400 (Mon, 16 Oct 2023) EndedAt: 2023-10-16 03:35:42 -0400 (Mon, 16 Oct 2023) EllapsedTime: 94.2 seconds RetCode: 0 Status: WARNINGS CheckDir: lpsymphony.Rcheck Warnings: 1