Package: lpsymphony Version: 1.28.1 Command: rm -rf lpsymphony.buildbin-libdir && mkdir lpsymphony.buildbin-libdir && F:\biocbuild\bbs-3.17-bioc\R\bin\R.exe CMD INSTALL --build --library=lpsymphony.buildbin-libdir lpsymphony_1.28.1.tar.gz StartedAt: 2023-10-16 09:00:55 -0400 (Mon, 16 Oct 2023) EndedAt: 2023-10-16 09:01:21 -0400 (Mon, 16 Oct 2023) EllapsedTime: 26.0 seconds RetCode: 0 Status: OK PackageFile: lpsymphony_1.28.1.zip PackageFileSize: 2.726 MiB