Package: lpNet Version: 2.32.0 Command: rm -rf lpNet.buildbin-libdir && mkdir lpNet.buildbin-libdir && /Users/biocbuild/BBS/utils/build-universal.sh lpNet_2.32.0.tar.gz /Library/Frameworks/R.framework/Resources/bin/R lpNet.buildbin-libdir StartedAt: 2023-10-16 09:38:25 -0400 (Mon, 16 Oct 2023) EndedAt: 2023-10-16 09:38:39 -0400 (Mon, 16 Oct 2023) EllapsedTime: 14.6 seconds RetCode: 0 Status: OK PackageFile: lpNet_2.32.0.tgz PackageFileSize: 404.9 KiB