Package: logicFS Version: 2.20.0 Command: chmod a+r logicFS -R && F:\biocbuild\bbs-3.17-bioc\R\bin\R.exe CMD build --keep-empty-dirs --no-resave-data logicFS StartedAt: 2023-10-15 20:06:51 -0400 (Sun, 15 Oct 2023) EndedAt: 2023-10-15 20:07:14 -0400 (Sun, 15 Oct 2023) EllapsedTime: 22.8 seconds RetCode: 0 Status: OK PackageFile: logicFS_2.20.0.tar.gz PackageFileSize: 151.6 KiB