Package: logicFS Version: 2.20.0 Command: rm -rf logicFS.buildbin-libdir && mkdir logicFS.buildbin-libdir && F:\biocbuild\bbs-3.17-bioc\R\bin\R.exe CMD INSTALL --build --library=logicFS.buildbin-libdir logicFS_2.20.0.tar.gz StartedAt: 2023-10-16 09:00:41 -0400 (Mon, 16 Oct 2023) EndedAt: 2023-10-16 09:01:09 -0400 (Mon, 16 Oct 2023) EllapsedTime: 28.1 seconds RetCode: 0 Status: OK PackageFile: logicFS_2.20.0.zip PackageFileSize: 509 KiB