Package: logicFS Version: 2.20.0 Command: /home/biocbuild/bbs-3.17-bioc/R/bin/R CMD INSTALL logicFS StartedAt: 2023-10-15 15:36:55 -0400 (Sun, 15 Oct 2023) EndedAt: 2023-10-15 15:37:04 -0400 (Sun, 15 Oct 2023) EllapsedTime: 9.3 seconds RetCode: 0 Status: OK