Package: logicFS Version: 2.20.0 Command: /Library/Frameworks/R.framework/Resources/bin/R CMD INSTALL logicFS StartedAt: 2023-10-15 16:04:43 -0400 (Sun, 15 Oct 2023) EndedAt: 2023-10-15 16:05:14 -0400 (Sun, 15 Oct 2023) EllapsedTime: 30.9 seconds RetCode: 0 Status: OK